{
 "currentVersion": 10.71,
 "serviceDescription": "Salta/30_August_2021",
 "name": "Salta/30_August_2021",
 "description": "",
 "extent": {
  "xmin": 10413.29498,
  "ymin": -3283043.01072,
  "xmax": 12176.144980000001,
  "ymax": -3281247.86072,
  "spatialReference": {
   "wkt": "PROJCS[\"Transverse_Mercator\",GEOGCS[\"GCS_HARTEBEESTHOEK_1994\",DATUM[\"D_HARTEBEESTHOEK_1994\",SPHEROID[\"GRS_1980\",6378137.0,298.257222101]],PRIMEM[\"Greenwich\",0.0],UNIT[\"Degree\",0.0174532925199433]],PROJECTION[\"Transverse_Mercator\"],PARAMETER[\"false_easting\",0.0],PARAMETER[\"false_northing\",0.0],PARAMETER[\"central_meridian\",31.0],PARAMETER[\"scale_factor\",1.0],PARAMETER[\"latitude_of_origin\",0.0],UNIT[\"Meter\",1.0]]"
  }
 },
 "initialExtent": {
  "xmin": 10413.29498,
  "ymin": -3283043.01072,
  "xmax": 12176.144980000001,
  "ymax": -3281247.86072,
  "spatialReference": {
   "wkt": "PROJCS[\"Transverse_Mercator\",GEOGCS[\"GCS_HARTEBEESTHOEK_1994\",DATUM[\"D_HARTEBEESTHOEK_1994\",SPHEROID[\"GRS_1980\",6378137.0,298.257222101]],PRIMEM[\"Greenwich\",0.0],UNIT[\"Degree\",0.0174532925199433]],PROJECTION[\"Transverse_Mercator\"],PARAMETER[\"false_easting\",0.0],PARAMETER[\"false_northing\",0.0],PARAMETER[\"central_meridian\",31.0],PARAMETER[\"scale_factor\",1.0],PARAMETER[\"latitude_of_origin\",0.0],UNIT[\"Meter\",1.0]]"
  }
 },
 "fullExtent": {
  "xmin": 10413.29498,
  "ymin": -3283043.01072,
  "xmax": 12176.144980000001,
  "ymax": -3281247.86072,
  "spatialReference": {
   "wkt": "PROJCS[\"Transverse_Mercator\",GEOGCS[\"GCS_HARTEBEESTHOEK_1994\",DATUM[\"D_HARTEBEESTHOEK_1994\",SPHEROID[\"GRS_1980\",6378137.0,298.257222101]],PRIMEM[\"Greenwich\",0.0],UNIT[\"Degree\",0.0174532925199433]],PROJECTION[\"Transverse_Mercator\"],PARAMETER[\"false_easting\",0.0],PARAMETER[\"false_northing\",0.0],PARAMETER[\"central_meridian\",31.0],PARAMETER[\"scale_factor\",1.0],PARAMETER[\"latitude_of_origin\",0.0],UNIT[\"Meter\",1.0]]"
  }
 },
 "pixelSizeX": 0.05000000000000001,
 "pixelSizeY": 0.04999999999999741,
 "bandCount": 4,
 "pixelType": "U8",
 "minPixelSize": 0,
 "maxPixelSize": 0,
 "copyrightText": "",
 "serviceDataType": "esriImageServiceDataTypeGeneric",
 "minValues": [],
 "maxValues": [],
 "meanValues": [],
 "stdvValues": [],
 "objectIdField": "",
 "fields": [],
 "capabilities": "Image,Metadata,Mensuration",
 "defaultMosaicMethod": "Center",
 "allowedMosaicMethods": "",
 "sortField": "",
 "sortValue": null,
 "mosaicOperator": "First",
 "defaultCompressionQuality": 75,
 "defaultResamplingMethod": "Bilinear",
 "maxImageHeight": 4100,
 "maxImageWidth": 15000,
 "allowRasterFunction": true,
 "rasterFunctionInfos": [
  {
   "name": "None",
   "description": "",
   "help": ""
  }
 ],
 "rasterTypeInfos": [
  {
   "name": "Raster Dataset",
   "description": "Supports all ArcGIS Raster Datasets",
   "help": ""
  }
 ],
 "mensurationCapabilities": "Basic",
 "hasHistograms": false,
 "hasColormap": false,
 "hasRasterAttributeTable": false,
 "minScale": 0,
 "maxScale": 0,
 "exportTilesAllowed": false,
 "hasMultidimensions": false,
 "supportsStatistics": false,
 "supportsAdvancedQueries": false,
 "editFieldsInfo": null,
 "ownershipBasedAccessControlForRasters": null,
 "allowComputeTiePoints": false,
 "useStandardizedQueries": true,
 "advancedQueryCapabilities": {
  "useStandardizedQueries": true,
  "supportsStatistics": false,
  "supportsOrderBy": false,
  "supportsDistinct": false,
  "supportsPagination": false
 },
 "spatialReference": {
  "wkt": "PROJCS[\"Transverse_Mercator\",GEOGCS[\"GCS_HARTEBEESTHOEK_1994\",DATUM[\"D_HARTEBEESTHOEK_1994\",SPHEROID[\"GRS_1980\",6378137.0,298.257222101]],PRIMEM[\"Greenwich\",0.0],UNIT[\"Degree\",0.0174532925199433]],PROJECTION[\"Transverse_Mercator\"],PARAMETER[\"false_easting\",0.0],PARAMETER[\"false_northing\",0.0],PARAMETER[\"central_meridian\",31.0],PARAMETER[\"scale_factor\",1.0],PARAMETER[\"latitude_of_origin\",0.0],UNIT[\"Meter\",1.0]]"
 }
}
